BEGIN:VCALENDAR
VERSION:2.0
PRODID:-//Leonbergse Honden Club Nederland - ECPv6.15.20//NONSGML v1.0//EN
CALSCALE:GREGORIAN
METHOD:PUBLISH
X-ORIGINAL-URL:https://leonberger.nl
X-WR-CALDESC:Evenementen voor Leonbergse Honden Club Nederland
REFRESH-INTERVAL;VALUE=DURATION:PT1H
X-Robots-Tag:noindex
X-PUBLISHED-TTL:PT1H
BEGIN:VTIMEZONE
TZID:Europe/Amsterdam
BEGIN:DAYLIGHT
TZOFFSETFROM:+0100
TZOFFSETTO:+0200
TZNAME:CEST
DTSTART:20250330T010000
END:DAYLIGHT
BEGIN:STANDARD
TZOFFSETFROM:+0200
TZOFFSETTO:+0100
TZNAME:CET
DTSTART:20251026T010000
END:STANDARD
BEGIN:DAYLIGHT
TZOFFSETFROM:+0100
TZOFFSETTO:+0200
TZNAME:CEST
DTSTART:20260329T010000
END:DAYLIGHT
BEGIN:STANDARD
TZOFFSETFROM:+0200
TZOFFSETTO:+0100
TZNAME:CET
DTSTART:20261025T010000
END:STANDARD
BEGIN:DAYLIGHT
TZOFFSETFROM:+0100
TZOFFSETTO:+0200
TZNAME:CEST
DTSTART:20270328T010000
END:DAYLIGHT
BEGIN:STANDARD
TZOFFSETFROM:+0200
TZOFFSETTO:+0100
TZNAME:CET
DTSTART:20271031T010000
END:STANDARD
END:VTIMEZONE
BEGIN:VEVENT
DTSTART;TZID=Europe/Amsterdam:20260704T080000
DTEND;TZID=Europe/Amsterdam:20260705T170000
DTSTAMP:20260425T024304
CREATED:20251205T120217Z
LAST-MODIFIED:20251205T120217Z
UID:18726-1783152000-1783270800@leonberger.nl
SUMMARY:De Utrecht
DESCRIPTION:CAC/CACIB \nBeide dagen ALLE rassen. \nDe Holland Cup: Een Unieke Kans \nWat dit jaar extra bijzonder maakt\, is dat de Holland Cup op\nzaterdag als kwalificatiewedstrijd voor Crufts fungeert.
URL:https://leonberger.nl/event/de-utrecht/
LOCATION:Papendal\, Papendallaan 9\, Arnhem\, 6816 VD\, Nederland
ORGANIZER;CN="De Utrecht":MAILTO:secretariaat@de-utrecht.nl
END:VEVENT
BEGIN:VEVENT
DTSTART;TZID=Europe/Amsterdam:20260711T080000
DTEND;TZID=Europe/Amsterdam:20260712T170000
DTSTAMP:20260425T024304
CREATED:20251205T120515Z
LAST-MODIFIED:20251205T120515Z
UID:18728-1783756800-1783875600@leonberger.nl
SUMMARY:Brabants Rashondenfestival CAC Outdoor
DESCRIPTION:Zaterdag: 2\,3\,4\,7\,8\nZondag: 1\,5\,6\,9\,10
URL:https://leonberger.nl/event/brabants-rashondenfestival-cac-outdoor-2/
LOCATION:Kaatsheuvel\, Baan 19\, Kaatsheuvel\, 5171 NC
ORGANIZER;CN="KV Waalwijk":MAILTO:info@brabantsrashondenfestival.nl
END:VEVENT
END:VCALENDAR