BEGIN:VCALENDAR
VERSION:2.0
PRODID:-//Leonbergse Honden Club Nederland - ECPv6.15.20//NONSGML v1.0//EN
CALSCALE:GREGORIAN
METHOD:PUBLISH
X-ORIGINAL-URL:https://leonberger.nl
X-WR-CALDESC:Evenementen voor Leonbergse Honden Club Nederland
REFRESH-INTERVAL;VALUE=DURATION:PT1H
X-Robots-Tag:noindex
X-PUBLISHED-TTL:PT1H
BEGIN:VTIMEZONE
TZID:Europe/Amsterdam
BEGIN:DAYLIGHT
TZOFFSETFROM:+0100
TZOFFSETTO:+0200
TZNAME:CEST
DTSTART:20250330T010000
END:DAYLIGHT
BEGIN:STANDARD
TZOFFSETFROM:+0200
TZOFFSETTO:+0100
TZNAME:CET
DTSTART:20251026T010000
END:STANDARD
BEGIN:DAYLIGHT
TZOFFSETFROM:+0100
TZOFFSETTO:+0200
TZNAME:CEST
DTSTART:20260329T010000
END:DAYLIGHT
BEGIN:STANDARD
TZOFFSETFROM:+0200
TZOFFSETTO:+0100
TZNAME:CET
DTSTART:20261025T010000
END:STANDARD
BEGIN:DAYLIGHT
TZOFFSETFROM:+0100
TZOFFSETTO:+0200
TZNAME:CEST
DTSTART:20270328T010000
END:DAYLIGHT
BEGIN:STANDARD
TZOFFSETFROM:+0200
TZOFFSETTO:+0100
TZNAME:CET
DTSTART:20271031T010000
END:STANDARD
END:VTIMEZONE
BEGIN:VEVENT
DTSTART;VALUE=DATE:20260613
DTEND;VALUE=DATE:20260615
DTSTAMP:20260425T011445
CREATED:20230309T162602Z
LAST-MODIFIED:20251123T202550Z
UID:13381-1781308800-1781481599@leonberger.nl
SUMMARY:IULH Wereldkampioenschap en Kampioenschapsclubmatch 13 en 14 juni 2026
DESCRIPTION:IULH Wereldkampioenschap\n📅 Datum:\nZaterdag 13 juni 2026 \n📍 Locatie:\nRCN de Flaasbloem\, Flaasdijk 1\, 4861 RC Chaam \nKeurmeesters:\nMw. Carla Dusseldorp (FR)\, Dhr. Hans Stigt (NL)\, Dhr. Olli Kokkonen (FI) en Mw. Kerry Rushby (GB)\n(Wijzigingen voorbehouden) \nMet toekenning van dubbel C.A.C. \n\nKampioenschapsclubmatch\n📅 Datum:\nZondag 14 juni 2026 \n📍 Locatie:\nRCN de Flaasbloem\, Flaasdijk 1\, 4861 RC Chaam \nKeurmeesters:\nMw. Carla Dusseldorp (FR)\, Dhr. Hans Stigt (NL) en Mw. Kerry Rushby (GB)\n(Wijzigingen voorbehouden) \nMet toekenning van dubbel C.A.C. \n  \nCommissie Evenementen
URL:https://leonberger.nl/event/kcm-leonbergse-honden-club-nederland-15-juni-2024/
LOCATION:RCN de Flaasbloem\, Flaasdijk 1\, Chaam\, 4861 RC
END:VEVENT
BEGIN:VEVENT
DTSTART;TZID=Europe/Amsterdam:20260613T080000
DTEND;TZID=Europe/Amsterdam:20260614T170000
DTSTAMP:20260425T011445
CREATED:20251205T114813Z
LAST-MODIFIED:20251205T114839Z
UID:18720-1781337600-1781456400@leonberger.nl
SUMMARY:Dogshow Eindhoven
DESCRIPTION:CAC \nZaterdag: 1\,3\,5\,6\,7\nZondag: 2\,4\,8\,9\,10
URL:https://leonberger.nl/event/dogshow-eindhoven-3/
LOCATION:Geldrop\, Kervel 3\, Geldrop\, 5667 KN
ORGANIZER;CN="KC De Kempen":MAILTO:secretariaat@dogshoweindhoven.nl
END:VEVENT
BEGIN:VEVENT
DTSTART;TZID=Europe/Amsterdam:20260620T080000
DTEND;TZID=Europe/Amsterdam:20260620T170000
DTSTAMP:20260425T011445
CREATED:20251205T115152Z
LAST-MODIFIED:20251205T115152Z
UID:18722-1781942400-1781974800@leonberger.nl
SUMMARY:De Nationale
DESCRIPTION:De nationale is de grootste hondenshow met uitsluitend Nederlandse Hondenrassen. Deze rassen maken deel uit van ons cultureel erfgoed. \nDe Nederlandse rassen zijn: \nSaarlooswolfhond\nHollandse Herder\nNederlandse Schapendoes\nHollandse Smoushond\nStabyhoun\nWetterhoun\nNederlandse Kooikerhondje\nDrentsche Patrijshond\nMarkiesje \nCAC
URL:https://leonberger.nl/event/de-nationale-2/
LOCATION:Utrechtse Rashonden Vereniging\, Manitobadreef 8\, Utrecht\, 3565 CH\, Netherlands
ORGANIZER;CN="Raad van Beheer":MAILTO:hondvanhetjaar@raadvanbeheer.nl
END:VEVENT
BEGIN:VEVENT
DTSTART;TZID=Europe/Amsterdam:20260627T080000
DTEND;TZID=Europe/Amsterdam:20260628T170000
DTSTAMP:20260425T011445
CREATED:20251205T115428Z
LAST-MODIFIED:20251205T115428Z
UID:18724-1782547200-1782666000@leonberger.nl
SUMMARY:Turf Trofee
DESCRIPTION:CAC \nZaterdag: 1\,3\,4\,7\,8\nZondag: 2\,5\,6\,9\,10
URL:https://leonberger.nl/event/turf-trofee-2/
LOCATION:Hoogeveen\, Achteromsedijk 8F\, Hoogeveen\, 7903 TL
END:VEVENT
END:VCALENDAR