BEGIN:VCALENDAR
VERSION:2.0
PRODID:-//Leonbergse Honden Club Nederland - ECPv6.15.20//NONSGML v1.0//EN
CALSCALE:GREGORIAN
METHOD:PUBLISH
X-ORIGINAL-URL:https://leonberger.nl
X-WR-CALDESC:Evenementen voor Leonbergse Honden Club Nederland
REFRESH-INTERVAL;VALUE=DURATION:PT1H
X-Robots-Tag:noindex
X-PUBLISHED-TTL:PT1H
BEGIN:VTIMEZONE
TZID:Europe/Amsterdam
BEGIN:DAYLIGHT
TZOFFSETFROM:+0100
TZOFFSETTO:+0200
TZNAME:CEST
DTSTART:20250330T010000
END:DAYLIGHT
BEGIN:STANDARD
TZOFFSETFROM:+0200
TZOFFSETTO:+0100
TZNAME:CET
DTSTART:20251026T010000
END:STANDARD
BEGIN:DAYLIGHT
TZOFFSETFROM:+0100
TZOFFSETTO:+0200
TZNAME:CEST
DTSTART:20260329T010000
END:DAYLIGHT
BEGIN:STANDARD
TZOFFSETFROM:+0200
TZOFFSETTO:+0100
TZNAME:CET
DTSTART:20261025T010000
END:STANDARD
BEGIN:DAYLIGHT
TZOFFSETFROM:+0100
TZOFFSETTO:+0200
TZNAME:CEST
DTSTART:20270328T010000
END:DAYLIGHT
BEGIN:STANDARD
TZOFFSETFROM:+0200
TZOFFSETTO:+0100
TZNAME:CET
DTSTART:20271031T010000
END:STANDARD
END:VTIMEZONE
BEGIN:VTIMEZONE
TZID:UTC
BEGIN:STANDARD
TZOFFSETFROM:+0000
TZOFFSETTO:+0000
TZNAME:UTC
DTSTART:20250101T000000
END:STANDARD
END:VTIMEZONE
BEGIN:VEVENT
DTSTART;TZID=Europe/Amsterdam:20260228T080000
DTEND;TZID=Europe/Amsterdam:20260301T170000
DTSTAMP:20260424T233543
CREATED:20251205T111332Z
LAST-MODIFIED:20251205T111332Z
UID:18712-1772265600-1772384400@leonberger.nl
SUMMARY:Martini Dogshow
DESCRIPTION:Internationale CAC/CACIB hondenshow. \nLET OP: Dubbelshow\, dus beide dagen ALLE rassen.
URL:https://leonberger.nl/event/martini-dogshow-2/
LOCATION:Martini Plaza\, Leonard Springerlaan 2\, Groningen\, 9727 KB\, Nederland
ORGANIZER;CN="Martinidogshow Noorder Kynologenclub":MAILTO:secretariaat@martinidogshow.nl
END:VEVENT
BEGIN:VEVENT
DTSTART;TZID=Europe/Amsterdam:20260320T193000
DTEND;TZID=Europe/Amsterdam:20260320T203000
DTSTAMP:20260424T233543
CREATED:20260205T172531Z
LAST-MODIFIED:20260205T190013Z
UID:19314-1774035000-1774038600@leonberger.nl
SUMMARY:Online lezing "Meer honden minder gebruiken & DLA" op vrijdag 20 maart
DESCRIPTION:Het thema “Meer honden minder gebruiken” en de rol van DLA (Dog Leukocyte Antigen) zijn onderwerpen die veel aandacht krijgen binnen de fokkerij. Een zorgvuldige omgang met genetische diversiteit is immers van groot belang voor de gezondheid en toekomst van ons ras. \nInschrijven voor deze lezing is verplicht en kan gedaan worden door HIER te klikken. \n\nU krijgt ongeveer een week voor de presentatie een uitnodiging met de link naar TEAMS om digitaal deel te kunnen nemen.\n  \n 
URL:https://leonberger.nl/event/online-lezing-meer-honden-minder-gebruiken-dla-op-vrijdag-20-maart-1930/
ATTACH;FMTTYPE=image/png:https://leonberger.nl/wp-content/uploads/2025/11/Afbeelding1.png
END:VEVENT
BEGIN:VEVENT
DTSTART;TZID=Europe/Amsterdam:20260322T080000
DTEND;TZID=Europe/Amsterdam:20260323T170000
DTSTAMP:20260424T233543
CREATED:20251205T111709Z
LAST-MODIFIED:20251205T112944Z
UID:18714-1774166400-1774285200@leonberger.nl
SUMMARY:Dogshow Rijnland
DESCRIPTION:CAC/CACIB \nPlantarium gebouw\, Italiëlaan 4\, 2391 PT Hazerswoude-dorp \nLET OP: ADRESGEGEVENS VOOR NAVIGATIE PLANTARIUM VOOR EXPOSANTEN / HONDEN / BEZOEKERS\nDenemarkenlaan 9\, 2391 PZ Hazerswoude-Dorp \nLET OP: FCI-2 op zaterdag 22 maart.
URL:https://leonberger.nl/event/dogshow-rijnland-3/
LOCATION:Plantarium\, Denemarkenlaan 9\, Hazerswoude-Dorp\, 2391 PT\, Nederland
ORGANIZER;CN="KV RIJNLAND":MAILTO:tentoonstelling@kvrijnland.nl
END:VEVENT
BEGIN:VEVENT
DTSTART;TZID=UTC:20260329T103000
DTEND;TZID=UTC:20260329T170000
DTSTAMP:20260424T233543
CREATED:20180223T185520Z
LAST-MODIFIED:20260112T205651Z
UID:797-1774780200-1774803600@leonberger.nl
SUMMARY:Wandeling te Chaam Steengroeve
DESCRIPTION:Op zondag 29 maart 2026 gaan we wandelen in de bossen van Chaam\, We verzamelen om 11:00 uur bij de Steengroeve en gaan om 11:30 uur wandelen. \nLocatie: De Steengroeve\, Industriestraat 24\, 4861 PR Chaam. \nMeer informatie en inschrijven voor de wandeling kunt u hier vinden. \nDe inschrijving voor deze wandeling is geopend
URL:https://leonberger.nl/event/2de-benewa-te-chaam/
LOCATION:De Steengroeve Chaam Noord Brabant\, De Steengroeve\, Industriestraat 24\, Chaam\, 4861PR\, Nederland
ORGANIZER;CN="LHCN Wandelingen":MAILTO:evenementenenpr@leonberger.nl
END:VEVENT
END:VCALENDAR